BEGIN:VCALENDAR
VERSION:2.0
PRODID:-//CCU - Cámara de la Construcción del Uruguay - ECPv6.15.20//NONSGML v1.0//EN
CALSCALE:GREGORIAN
METHOD:PUBLISH
X-WR-CALNAME:CCU - Cámara de la Construcción del Uruguay
X-ORIGINAL-URL:https://sitio.ccu.com.uy
X-WR-CALDESC:Eventos para CCU - Cámara de la Construcción del Uruguay
REFRESH-INTERVAL;VALUE=DURATION:PT1H
X-Robots-Tag:noindex
X-PUBLISHED-TTL:PT1H
BEGIN:VTIMEZONE
TZID:America/Sao_Paulo
BEGIN:STANDARD
TZOFFSETFROM:-0300
TZOFFSETTO:-0300
TZNAME:-03
DTSTART:20240101T000000
END:STANDARD
END:VTIMEZONE
BEGIN:VEVENT
DTSTART;TZID=America/Sao_Paulo:20250618T140000
DTEND;TZID=America/Sao_Paulo:20250618T180000
DTSTAMP:20260421T061234
CREATED:20250526T132618Z
LAST-MODIFIED:20250526T132618Z
UID:991225-1750255200-1750269600@sitio.ccu.com.uy
SUMMARY:Taller: Comunicación efectiva y colaborativa (CCU - Consultora Gemma)
DESCRIPTION:En el marco del Proyecto RET: Construyendo innovación y digitalización de CCU\, apoyado por INEFOP\, los invitamos a participar del Taller de comunicación efectiva y colaborativa\, impartido por la consultora Gemma. El taller se realizará el miércoles 18 de junio de 14 a 18hs en la sede de la CCU.  \n \nLa inversión asociada por persona es de 60 USD. \nPor más información y/o inscripciones: ret@ccu.com.uy \n 
URL:https://sitio.ccu.com.uy/evento/taller-comunicacion-efectiva-y-colaborativa-ccu-consultora-gemma/
LOCATION:CCU – Cámara de la Construcción del Uruguay\, Andrés Martínez Trueba 1256 C.P.\, Montevideo\, Montevideo\, 11200\, Uruguay
CATEGORIES:Talleres
ATTACH;FMTTYPE=image/jpeg:https://sitio.ccu.com.uy/wp-content/uploads/2025/05/taller-comunicacion-1.jpg
ORGANIZER;CN="CCU - C%C3%A1mara de la Construcci%C3%B3n del Uruguay":MAILTO:secretaria@sitio.ccu.com.uy
END:VEVENT
END:VCALENDAR