BEGIN:VCALENDAR
VERSION:2.0
PRODID:-//CCU - Cámara de la Construcción del Uruguay - ECPv6.15.20//NONSGML v1.0//EN
CALSCALE:GREGORIAN
METHOD:PUBLISH
X-WR-CALNAME:CCU - Cámara de la Construcción del Uruguay
X-ORIGINAL-URL:https://sitio.ccu.com.uy
X-WR-CALDESC:Eventos para CCU - Cámara de la Construcción del Uruguay
REFRESH-INTERVAL;VALUE=DURATION:PT1H
X-Robots-Tag:noindex
X-PUBLISHED-TTL:PT1H
BEGIN:VTIMEZONE
TZID:America/Sao_Paulo
BEGIN:STANDARD
TZOFFSETFROM:-0300
TZOFFSETTO:-0300
TZNAME:-03
DTSTART:20240101T000000
END:STANDARD
END:VTIMEZONE
BEGIN:VEVENT
DTSTART;TZID=America/Sao_Paulo:20250526T080000
DTEND;TZID=America/Sao_Paulo:20250526T170000
DTSTAMP:20260420T200328
CREATED:20250526T132346Z
LAST-MODIFIED:20250526T132346Z
UID:991222-1748246400-1748278800@sitio.ccu.com.uy
SUMMARY:Ciclo de Talleres de Liderazgo (CCU - Chus Sanz&Co)
DESCRIPTION:Los invitamos a participar del Ciclo de Talleres de Liderazgo que se llevará adelante de la mano de la consultora Chus Sanz & Co\, en el marco del Proyecto RET: Construyendo innovación y digitalización de la Cámara de la Construcción del Uruguay\, apoyado por INEFOP. \n \nInversión asociada por participante: 300 USD (Socios CCU) y 400 USD (No Socios CCU) \nPor más información y/o inscripciones: ret@ccu.com.uy \n 
URL:https://sitio.ccu.com.uy/evento/ciclo-de-talleres-de-liderazgo-ccu-chus-sanzco/
LOCATION:Montevideo
CATEGORIES:Talleres
ATTACH;FMTTYPE=image/jpeg:https://sitio.ccu.com.uy/wp-content/uploads/2025/05/Liderazgo_Liderazgo.jpg
END:VEVENT
END:VCALENDAR